BEGIN:VCALENDAR
VERSION:2.0
PRODID:-//IONS - Impact Organizations of Nova Scotia - ECPv6.9.0//NONSGML v1.0//EN
CALSCALE:GREGORIAN
METHOD:PUBLISH
X-ORIGINAL-URL:https://ions-dev.alltimelowe.com
X-WR-CALDESC:Events for IONS - Impact Organizations of Nova Scotia
REFRESH-INTERVAL;VALUE=DURATION:PT1H
X-Robots-Tag:noindex
X-PUBLISHED-TTL:PT1H
BEGIN:VTIMEZONE
TZID:America/Halifax
BEGIN:DAYLIGHT
TZOFFSETFROM:-0400
TZOFFSETTO:-0300
TZNAME:ADT
DTSTART:20230312T060000
END:DAYLIGHT
BEGIN:STANDARD
TZOFFSETFROM:-0300
TZOFFSETTO:-0400
TZNAME:AST
DTSTART:20231105T050000
END:STANDARD
END:VTIMEZONE
BEGIN:VEVENT
DTSTART;TZID=America/Halifax:20230308T170000
DTEND;TZID=America/Halifax:20230308T190000
DTSTAMP:20260423T194304
CREATED:20230222T180222Z
LAST-MODIFIED:20230307T140705Z
UID:10000283-1678294800-1678302000@ions-dev.alltimelowe.com
SUMMARY:Happy Birthday IONS!
DESCRIPTION:Come help us celebrate IONS turning 1 year old on March 8th at Good Robot Brewing\n\n\nIONS is turning 1 year old! \nYou’re invited to a celebration of this milestone with the IONS team at Good Robot. We would love to see and meet more people working in the Community Impact Sector for a casual get together\, so please come on out for this after work gathering. There will be some light bites and appetizers provided.  \nWhere: Good Robot Brewing (upstairs events space\, “The Mousetrap”)\, 2736 Robie St\, Halifax  \nWhen: Wednesday March 8\, 5-7pm   \nWho: Community Impact Sector workers and volunteers  \nWhat: Casual snacks\, drinks\, and good conversation  \nPlease let us know you’re coming by RSVPing on this Eventbrite. We look forward to connecting with our friends in the sector\, old and new!
URL:https://ions-dev.alltimelowe.com/event/happy-birthday-ions/
LOCATION:Good Robot Brewing Co. – Taproom & Store\, 2736 Robie Street\, Halifax\, NS\, B3K 4P2\, Canada
CATEGORIES:IONS Event
ATTACH;FMTTYPE=image/jpeg:https://ions-dev.alltimelowe.com/wp-content/uploads/2023/02/03d7a0a6bec13fb29c6279c1e07fc7b4.jpg
END:VEVENT
END:VCALENDAR