BEGIN:VCALENDAR
VERSION:2.0
PRODID:-//IONS - Impact Organizations of Nova Scotia - ECPv6.9.0//NONSGML v1.0//EN
CALSCALE:GREGORIAN
METHOD:PUBLISH
X-WR-CALNAME:IONS - Impact Organizations of Nova Scotia
X-ORIGINAL-URL:https://ions-dev.alltimelowe.com
X-WR-CALDESC:Events for IONS - Impact Organizations of Nova Scotia
REFRESH-INTERVAL;VALUE=DURATION:PT1H
X-Robots-Tag:noindex
X-PUBLISHED-TTL:PT1H
BEGIN:VTIMEZONE
TZID:America/Halifax
BEGIN:DAYLIGHT
TZOFFSETFROM:-0400
TZOFFSETTO:-0300
TZNAME:ADT
DTSTART:20230312T060000
END:DAYLIGHT
BEGIN:STANDARD
TZOFFSETFROM:-0300
TZOFFSETTO:-0400
TZNAME:AST
DTSTART:20231105T050000
END:STANDARD
END:VTIMEZONE
BEGIN:VEVENT
DTSTART;TZID=America/Halifax:20230403T120000
DTEND;TZID=America/Halifax:20230403T130000
DTSTAMP:20260423T182102
CREATED:20230315T123346Z
LAST-MODIFIED:20230403T095208Z
UID:10000286-1680523200-1680526800@ions-dev.alltimelowe.com
SUMMARY:Social Impact Leaders: Discover Benefits For Your Organization
DESCRIPTION:Are you looking for affordable employee group benefit options for your organization? Join us for a lunch and learn to see what fits for you!\n\n\n\nAre you looking for affordable employee group benefit options for your organization?\n\nCost and administrative burdens create organizational barriers to access health benefits for staff and their families. Did you know that less than 50% of impact organizations (nonprofits and charities) in Nova Scotia have organizational drug prescription plans\, dental\, and vision benefits? To help increase access to these key services and care\, we’ve partnered with The Community Services Benefit Trust (CSBT) and NewGround Financial Inc. on a sector-wide employee group program! CSBT is the largest nonprofit employee benefit trust\, serving more than 1\,000 organizations across Canada\, which allows price volatility to be minimized. \n \nJoin us for a lunch and learn on Monday\, April 3rd at the Halifax Central Library to discover more about this program\, accessing supports\, and to see if these benefits are right for your organization.  \n \nRegistration is free of charge. Lunch will be provided\, and attendees will have the opportunity to connect with members of the sector\, and ask any questions about the program. To take care of our communities\, we need to make sure our people are taken care of first. \n \nE﻿mployee Group Benefits Highlights\n\n\n\n\nKey Note Speaker: Paul Wheeler\, Board Chair & Governance Officer\, CSBT\nFor over 40 years Paul Wheeler has worked in and on behalf of Canadian community social service organizations. \nHe currently serves as Board Chair and Chief Governance Officer at the Community Services Benefits Trust (CSBT)\, while also serving as an Ambassador for the Trust.
URL:https://ions-dev.alltimelowe.com/event/social-impact-leaders-discover-benefits-for-your-organization/
LOCATION:Halifax Central Library – BMO Community Room\, 5440 Spring Garden Road\, Halifax\, NS\, B3J 1E9\, Canada
CATEGORIES:IONS Event
ATTACH;FMTTYPE=image/jpeg:https://ions-dev.alltimelowe.com/wp-content/uploads/2023/03/f7e9a2f5967f2ff9c082769f38a75db5.jpg
END:VEVENT
END:VCALENDAR