BEGIN:VCALENDAR
VERSION:2.0
PRODID:-//IONS - Impact Organizations of Nova Scotia - ECPv6.9.0//NONSGML v1.0//EN
CALSCALE:GREGORIAN
METHOD:PUBLISH
X-ORIGINAL-URL:https://ions-dev.alltimelowe.com
X-WR-CALDESC:Events for IONS - Impact Organizations of Nova Scotia
REFRESH-INTERVAL;VALUE=DURATION:PT1H
X-Robots-Tag:noindex
X-PUBLISHED-TTL:PT1H
BEGIN:VTIMEZONE
TZID:America/Halifax
BEGIN:DAYLIGHT
TZOFFSETFROM:-0400
TZOFFSETTO:-0300
TZNAME:ADT
DTSTART:20230312T060000
END:DAYLIGHT
BEGIN:STANDARD
TZOFFSETFROM:-0300
TZOFFSETTO:-0400
TZNAME:AST
DTSTART:20231105T050000
END:STANDARD
END:VTIMEZONE
BEGIN:VEVENT
DTSTART;TZID=America/Halifax:20230130T160000
DTEND;TZID=America/Halifax:20230130T180000
DTSTAMP:20260423T134238
CREATED:20230105T151708Z
LAST-MODIFIED:20230110T200837Z
UID:10000269-1675094400-1675101600@ions-dev.alltimelowe.com
SUMMARY:Engage Nova Scotia's Winter Road Trip: Amherst
DESCRIPTION:Engage Nova Scotia’s Winter Road Trip is a series of 10 community conversations about the UN Sustainable Development Goals (SDGs) and quality of life in Nova Scotia. \nThis event will be hosted at NSCC – Cumberland Campus in Amherst on Monday\, January 30 from 4-6pm in the campus cafeteria. \nYou’ll hear community members share stories about advancing the SDGs and improving quality of life as part of a local conversation panel. \nThe event will also include opportunities to: \n\nConnect with speakers\, the Engage team\, and community members in attendance\nLearn more about the SDGs and themes from local wellbeing data\, and\nInteract with tools created to harness that data for positive change.
URL:https://ions-dev.alltimelowe.com/event/engage-nova-scotias-winter-road-trip-amherst/
LOCATION:NSCC – Cumberland Campus (Amherst)\, 147 South Albion Street\, Amherst\, Nova Scotia\, B4H 2X2\, Canada
CATEGORIES:Community Event
ATTACH;FMTTYPE=image/png:https://ions-dev.alltimelowe.com/wp-content/uploads/2023/01/Amherst.png
ORGANIZER;CN="Engage Nova Scotia":MAILTO:info@engagenovascotia.ca
END:VEVENT
END:VCALENDAR