BEGIN:VCALENDAR
VERSION:2.0
PRODID:-//IONS - Impact Organizations of Nova Scotia - ECPv6.9.0//NONSGML v1.0//EN
CALSCALE:GREGORIAN
METHOD:PUBLISH
X-WR-CALNAME:IONS - Impact Organizations of Nova Scotia
X-ORIGINAL-URL:https://ions-dev.alltimelowe.com
X-WR-CALDESC:Events for IONS - Impact Organizations of Nova Scotia
REFRESH-INTERVAL;VALUE=DURATION:PT1H
X-Robots-Tag:noindex
X-PUBLISHED-TTL:PT1H
BEGIN:VTIMEZONE
TZID:America/Halifax
BEGIN:DAYLIGHT
TZOFFSETFROM:-0400
TZOFFSETTO:-0300
TZNAME:ADT
DTSTART:20230312T060000
END:DAYLIGHT
BEGIN:STANDARD
TZOFFSETFROM:-0300
TZOFFSETTO:-0400
TZNAME:AST
DTSTART:20231105T050000
END:STANDARD
END:VTIMEZONE
BEGIN:VEVENT
DTSTART;TZID=America/Halifax:20230125T160000
DTEND;TZID=America/Halifax:20230125T180000
DTSTAMP:20260423T134033
CREATED:20230105T151308Z
LAST-MODIFIED:20230110T200845Z
UID:10000268-1674662400-1674669600@ions-dev.alltimelowe.com
SUMMARY:Engage Nova Scotia's Winter Road Trip: Port Hawkesbury
DESCRIPTION:Engage Nova Scotia’s Winter Road Trip is a series of 10 community conversations about the UN Sustainable Development Goals (SDGs) and quality of life in Nova Scotia. \nThis is the Port Hawkesbury stop\, which will be hosted at NSCC – Strait Area Campus on Wednesday\, January 25 from 4-6pm in Mawio’mi Place. \nYou’ll hear community members share stories about advancing the SDGs and improving quality of life as part of a local conversation panel. \nThe event will also include opportunities to: \n\nConnect with speakers\, the Engage team\, and community members in attendance\nLearn more about the SDGs and themes from local wellbeing data\, and\nInteract with tools created to harness that data for positive change.
URL:https://ions-dev.alltimelowe.com/event/engage-nova-scotias-winter-road-trip-port-hawkesbury/
LOCATION:NSCC – Strait Area Campus\, 226 Reeves Street\, Port Hawkesbury\, Nova Scotia\, B9A 2A2\, Canada
CATEGORIES:Community Event
ATTACH;FMTTYPE=image/png:https://ions-dev.alltimelowe.com/wp-content/uploads/2023/01/Port-Hawkesbury.png
ORGANIZER;CN="Engage Nova Scotia":MAILTO:info@engagenovascotia.ca
END:VEVENT
END:VCALENDAR