BEGIN:VCALENDAR
VERSION:2.0
PRODID:-//IONS - Impact Organizations of Nova Scotia - ECPv6.9.0//NONSGML v1.0//EN
CALSCALE:GREGORIAN
METHOD:PUBLISH
X-ORIGINAL-URL:https://ions-dev.alltimelowe.com
X-WR-CALDESC:Events for IONS - Impact Organizations of Nova Scotia
REFRESH-INTERVAL;VALUE=DURATION:PT1H
X-Robots-Tag:noindex
X-PUBLISHED-TTL:PT1H
BEGIN:VTIMEZONE
TZID:America/Halifax
BEGIN:DAYLIGHT
TZOFFSETFROM:-0400
TZOFFSETTO:-0300
TZNAME:ADT
DTSTART:20220313T060000
END:DAYLIGHT
BEGIN:STANDARD
TZOFFSETFROM:-0300
TZOFFSETTO:-0400
TZNAME:AST
DTSTART:20221106T050000
END:STANDARD
END:VTIMEZONE
BEGIN:VEVENT
DTSTART;VALUE=DATE:20220625
DTEND;VALUE=DATE:20220627
DTSTAMP:20260423T160633
CREATED:20220614T020402Z
LAST-MODIFIED:20220615T135409Z
UID:10000256-1656115200-1656287999@ions-dev.alltimelowe.com
SUMMARY:Introduction to Natural Building_Hands On!
DESCRIPTION:Please share this powerful learning opportunity widely. \nGaining skills\, and understanding opportunities\, for making a deep difference in minimizing our environmental building footprint is critically important in this time.\n\nJune 25 – 26th\nInstructors: Charles Williams and Kim Thompson\nCost: $350 (includes amazing food\, lodging and HST)\n\nTwo packed days of in-depth\, inspiring tours of on and off-site natural building examples including straw bale\, cob\, earthship\, hemp crete\, round wood\, wattle and daub\, followed by related hands-on learning projects.  \nFor more details and to register click here.   
URL:https://ions-dev.alltimelowe.com/event/introduction-to-natural-building_hands-on/
LOCATION:The Deanery Project\, 751 W Ship Harbour Rd NS\, Ship Harbour\, Nova Scotia\, B0J 2L0\, Canada
CATEGORIES:Community Event
ATTACH;FMTTYPE=image/jpeg:https://ions-dev.alltimelowe.com/wp-content/uploads/2022/06/Intro-to-Natural-Building-Posters4.jpg
ORGANIZER;CN="the Deanery Project":MAILTO:thedeaneryproject@gmail.com
END:VEVENT
BEGIN:VEVENT
DTSTART;VALUE=DATE:20220625
DTEND;VALUE=DATE:20220627
DTSTAMP:20260423T160633
CREATED:20220611T034002Z
LAST-MODIFIED:20220615T135358Z
UID:10000254-1656115200-1656287999@ions-dev.alltimelowe.com
SUMMARY:Intro to Natural Building
DESCRIPTION:Intro to Natural Building:\nSat June 25 – Sun June 26  9am -6pm\nIncludes tours of natural building examples\, conversations with builders\, hands-on learning projects. Lodging: bunk rooms or tenting included in fee.\n$350 (includes food\, one night’s basic lodging & HST)\nTo Register Visit: http://thedeaneryproject.com/natural-building-course-at-the-deanery/\nFor more info: please email Charles Williams at Haplo9@gmail.com Phone: (902)845-1888
URL:https://ions-dev.alltimelowe.com/event/intro-to-natural-building/
LOCATION:The Deanery Project\, 751 W Ship Harbour Rd NS\, Ship Harbour\, Nova Scotia\, B0J 2L0\, Canada
CATEGORIES:Community Event
ATTACH;FMTTYPE=image/png:https://ions-dev.alltimelowe.com/wp-content/uploads/2022/06/Intro-to-Natural-Building-Posters-1.png
ORGANIZER;CN="the Deanery Project":MAILTO:thedeaneryproject@gmail.com
END:VEVENT
BEGIN:VEVENT
DTSTART;TZID=America/Halifax:20220510T190000
DTEND;TZID=America/Halifax:20220510T210000
DTSTAMP:20260423T160633
CREATED:20220428T013610Z
LAST-MODIFIED:20220516T124716Z
UID:10000242-1652209200-1652216400@ions-dev.alltimelowe.com
SUMMARY:Tuesday Night at the Movies - the Deanery Project
DESCRIPTION:Cozy up by the fire and the big screen for “The Biggest Little Farm”. May 10th 7:00 – 9:00 pm. All welcome.\n\n \n\n“The Biggest Little Farm chronicles the eight-year quest of John and Molly Chester as they trade city living for 200 acres of barren farmland and a dream to harvest in harmony with nature. Through dogged perseverance and embracing the opportunity provided by nature’s conflicts\, the Chesters unlock and uncover a biodiverse design for living that exists far beyond their farm\, its seasons\, and our wildest imagination. Featuring breathtaking cinematography\, captivating animals\, and an urgent message to heed Mother Nature’s call\, The Biggest Little Farm provides us all a vital blueprint for better living and a healthier planet.”
URL:https://ions-dev.alltimelowe.com/event/tuesday-night-at-the-movies-the-deanery-project/
LOCATION:The Deanery Project\, 751 W Ship Harbour Rd NS\, Ship Harbour\, Nova Scotia\, B0J 2L0\, Canada
CATEGORIES:Community Event
ATTACH;FMTTYPE=image/png:https://ions-dev.alltimelowe.com/wp-content/uploads/2022/04/Movie-Night-at-the-Deanery-1.png
ORGANIZER;CN="the Deanery Project":MAILTO:thedeaneryproject@gmail.com
END:VEVENT
BEGIN:VEVENT
DTSTART;TZID=America/Halifax:20220501T093000
DTEND;TZID=America/Halifax:20220501T150000
DTSTAMP:20260423T160633
CREATED:20220415T173932Z
LAST-MODIFIED:20220422T130529Z
UID:10000241-1651397400-1651417200@ions-dev.alltimelowe.com
SUMMARY:Musical May Open House
DESCRIPTION:Open House  \nAbout: Our regular first Sunday a month open house. \n10:00-12:00 Preschool aged Forest School ($10) Sounds in the Forest \n12:00-3:00 Pizza and Music \n1:00-3:00 Deanery tour including natural building and permaculture installations \n1:30-:300 Canjo Workshop ($25) \nAge Group: All ages \nTime: 10-3 pm \nPrice: Food for sale and  $10 for Forest School
URL:https://ions-dev.alltimelowe.com/event/musical-may-open-house/
LOCATION:The Deanery Project\, 751 W Ship Harbour Rd NS\, Ship Harbour\, Nova Scotia\, B0J 2L0\, Canada
CATEGORIES:Community Event
ATTACH;FMTTYPE=image/png:https://ions-dev.alltimelowe.com/wp-content/uploads/2022/04/Open-House-at-the-Deanery-4.png
ORGANIZER;CN="the Deanery Project":MAILTO:thedeaneryproject@gmail.com
END:VEVENT
BEGIN:VEVENT
DTSTART;TZID=America/Halifax:20220501T093000
DTEND;TZID=America/Halifax:20220501T123000
DTSTAMP:20260423T160633
CREATED:20220415T173502Z
LAST-MODIFIED:20220422T130523Z
UID:10000240-1651397400-1651408200@ions-dev.alltimelowe.com
SUMMARY:Canjo Workshop
DESCRIPTION:What’s a Canjo you say?\nWell how about you find out at the Canjo Workshop!\nSunday May 1st\n9:30 – 12:30\nOnly 3 hours and $25 and you will have one to take home!\nP:(902)845-1888\nE: thedeaneryproject@gmail.com \nCanjo Registration form:\nhttps://docs.google.com/forms/d/e/1FAIpQLSe9CS0r1NnYdKvZ6aruz_Ub2dC3Ww9W3E0RDlMcpc4VtqehSg/viewform?usp=sf_link
URL:https://ions-dev.alltimelowe.com/event/canjo-workshop/
LOCATION:The Deanery Project\, 751 W Ship Harbour Rd NS\, Ship Harbour\, Nova Scotia\, B0J 2L0\, Canada
CATEGORIES:Community Event
ORGANIZER;CN="the Deanery Project":MAILTO:thedeaneryproject@gmail.com
END:VEVENT
BEGIN:VEVENT
DTSTART;TZID=America/Halifax:20220430T100000
DTEND;TZID=America/Halifax:20220430T123000
DTSTAMP:20260423T160633
CREATED:20220408T224655Z
LAST-MODIFIED:20220422T130511Z
UID:10000237-1651312800-1651321800@ions-dev.alltimelowe.com
SUMMARY:Fruit Tree Pruning Workshop
DESCRIPTION:Fruit Tree Pruning Workshop\nSaturday April 30\nCome learn how to prune your fruit trees with horticulturist Jim Turner. During this workshop\, you will gain practical hands-on experience pruning your fruit trees.\nAge Group: All ages\nTime: 10-12:30 am\nPrice:cost $40 for the workshop. If you want to take home multiple tree you pre-order additional scion/rootstock for $20 per stock/scion pair (limit 3/per person)\nLunch: $12 \nREGISTER HERE
URL:https://ions-dev.alltimelowe.com/event/fruit-tree-pruning-workshop/
LOCATION:The Deanery Project\, 751 W Ship Harbour Rd NS\, Ship Harbour\, Nova Scotia\, B0J 2L0\, Canada
CATEGORIES:Community Event
ATTACH;FMTTYPE=image/png:https://ions-dev.alltimelowe.com/wp-content/uploads/2022/04/Copy-of-Trees-for-Tomorrow.png
END:VEVENT
BEGIN:VEVENT
DTSTART;TZID=America/Halifax:20220416T103000
DTEND;TZID=America/Halifax:20220416T153000
DTSTAMP:20260423T160633
CREATED:20220412T014519Z
LAST-MODIFIED:20220422T130516Z
UID:10000238-1650105000-1650123000@ions-dev.alltimelowe.com
SUMMARY:Eggs & Kites: A Day to Celebrate Spring and Support Peace in Ukraine
DESCRIPTION:Saturday\, April 16th\nMorning Children’s Program $15/family\,\nLunch $10/ adult\, $5/child\nAfternoon activities by donation (fundraiser) \nSpring 2022 arrives filled with the hope of new beginnings and the sorrows of war. The days warm\, and the birds return giving hope for a new year even as friends around the world struggle for freedom. In an attempt to hold both joys and grief we offer this spring gathering. \n● Morning activities are child-focused\, filled with egg decorating\, an egg hunt\, crafts\, and games.\nNote for families coming for the morning program: Please bring treats to share. “Deanery fairies” will hide them in the woods while the children decorate their eggs and play. At 11:30 Ollie the Owl will lead them on a collaborative treat hunt. Before heading home the treats will be shared out amoung all participating 🙂 \n● The afternoon is a time for people to come together to support Ukraine and Peace through art and kite building. We will build simple blue and yellow kites\, and release their messages of peace together on the field. \nSCHEDULE\n10:30 -11:30 Children’s Programming\nEgg decorating with natural dyes\nCrafts (seed balls) and games\n11:30 -12:00 Egg hunt!!\n12:00 -1:30 Lunch – Borscht with Bread and Dessert\n1:00 – 3:00 Ukrainian Peace solidarity events\nKite building\nCollective art weaving project\nArt demonstrations: stained glass and knitting projects\nSilent auction fundraiser for Ukraine\n3:00 Closing Circle for Ukraine Peace Solidarity \nIf you have any questions please email Charles Williams at haplo9@gmail.com\nRegistration:\nhttps://docs.google.com/forms/d/e/1FAIpQLSfSqySFJCP7LYL30R3x7JkRCYGVUcgvd5PYA94gAPIsvdfcAQ/viewform
URL:https://ions-dev.alltimelowe.com/event/eggs-kites-a-day-to-celebrate-spring-and-support-peace-in-ukraine/
LOCATION:The Deanery Project\, 751 W Ship Harbour Rd NS\, Ship Harbour\, Nova Scotia\, B0J 2L0\, Canada
CATEGORIES:Community Event
ATTACH;FMTTYPE=image/jpeg:https://ions-dev.alltimelowe.com/wp-content/uploads/2022/04/EGG-HUNT-at-the-Deanery1-791x1024-1.jpeg
END:VEVENT
END:VCALENDAR